{"text_format":"1","workbook":"xlsx","n_sheets":2,"sheets":["Invoerblad","Uitslagformulier"],"not_rendered":{"charts":0,"images":1,"macros":0,"external_links":0,"defined_names":0,"comments":0,"pivot_tables":0},"unopened":[],"bounds":{"document_bytes":16777216,"sheet_cells":100000,"rows_first":2000,"rows_last":500,"rows_between":2000,"halvings":0,"cell_chars":16384,"cell_head_chars":4096},"cells_cut":0,"cells_raw":0,"read":"whole","date_system":"1900"}

{"sheet":"Invoerblad","index":0,"n_rows":44,"n_cols":50,"rows_kept":44,"cut":false,"hidden":false,"merged":[[0,4,0,5],[1,4,1,5],[2,4,2,5],[3,4,3,5],[7,2,8,2],[7,3,7,4],[8,3,8,4],[5,1,5,5],[7,1,8,1],[0,6,0,9],[1,6,1,9],[2,6,2,9],[3,6,3,9],[31,9,31,10],[29,9,29,10],[18,9,18,10],[19,9,19,10],[21,9,21,10],[22,9,22,10],[28,9,28,10],[27,9,27,10],[17,9,17,10],[5,6,5,10],[7,8,7,9],[8,8,8,9],[34,1,35,1],[18,8,19,8],[21,8,22,8],[28,8,29,8],[31,8,32,8],[18,1,19,1],[21,1,22,1],[24,1,25,1],[28,1,29,1],[31,1,32,1],[37,10,37,12],[16,36,16,37],[16,33,16,35],[9,8,9,9],[8,20,8,22],[17,20,17,22],[31,20,31,22],[24,20,24,22],[32,9,32,10]]}
[null,null,null,null,"Voorronde PK:",null,null,null,null,null,null,null,null,null,null,null,null,null,null,null,null,null,null,null,null,null,null,null,null,null,null,null,null,null,null,null,null,null,null,null,null,null,null,null,null,null,null,null,null," "]
[null,null,null,null,"Data:"]
[null,null,null,null,"Locatie:"]
[null,null,null,null,"Wedstrijdleider:",null,null,null,null,null,null,null,null,null,null,null,null,null,null,null,null,null,null,null,null,null,null,null,null,null,null,null," "]
[]
[null,"NAMEN INVULLEN VOLGORDE UITNODIGING",null,null,null,null,"UITSLUITEND DE GELE VLAKKEN INVULLEN !"]
[]
[null,"Bondsnr","Naam","Vereniging",null,"te maken","aanvangs","Officieel","Carambole systeem:",null,"Interval","Car."]
[null,null,null,null,null,"car.","moy.","Moyenne","Max. beurten:",null,60,"Brt.",null,null,null,null,null,null,null,null,"aantal partijen gespeeld"]
[null,null,null,null,null,null,null,null,"Te spelen partijen:",null,4,"Parijen",null,null,null,null,null,null,1,{"$f":"IF(E22>0,1,FALSE)","v":1},{"$f":"IF(E26>0,1,FALSE)","v":1},{"$f":"IF(M29>0,1,FALSE)","v":1},{"$f":"IF(M32>0,1,FALSE)","v":1},{"$f":"SUM(T10:W10)","v":4},{"$f":"PRODUCT(F11,X10)","v":4}]
[null,null," ",null,null,null,null,null,null,null,null,null,null,null,null,null,null,null,2,{"$f":"IF(E19>0,1,FALSE)","v":1},{"$f":"IF(E23>0,1,FALSE)","v":1},{"$f":"IF(E29>0,1,FALSE)","v":1},{"$f":"IF(E32>0,1,FALSE)","v":1},{"$f":"SUM(T11:W11)","v":4},{"$f":"PRODUCT(F12,X11)","v":4}]
[null,null," ",null,null,null,null,null,null,null,null,null,null,null,null,null,null,null,3,{"$f":"IF(E20>0,1,FALSE)","v":1},{"$f":"IF(M22>0,1,FALSE)","v":1},{"$f":"IF(M30>0,1,FALSE)","v":1},{"$f":"IF(E35>0,1,FALSE)","v":1},4,{"$f":"PRODUCT(F13,X12)","v":4}]
[null,null," ",null,null,null,null,null,null,null,null,null,null,null,null,null,null,null,4,{"$f":"IF(M19>0,1,FALSE)","v":1},{"$f":"IF(M23>0,1,FALSE)","v":1},{"$f":"IF(E30>0,1,FALSE)","v":1},{"$f":"IF(M33>0,1,FALSE)","v":1},4,{"$f":"PRODUCT(F14,X13)","v":4}]
[null,null," ",null,null,null,null,null,null,null,null,null,null,null,null,null,null,null,5,{"$f":"IF(M20>0,1,FALSE)","v":1},{"$f":"IF(E25>0,1,FALSE)","v":1},{"$f":"IF(E33>0,1,FALSE)","v":1},{"$f":"IF(E36>0,1,FALSE)","v":1},4,{"$f":"PRODUCT(F15,X14)","v":4}]
[null,null," "]
[]
[null,"Partijen:",null,null,null,null,null,null,null,null,null,null,null,null,null,null,null,null,null,null,null,null,null,null,null,null,null,null,null,null,null,null,"Partij","Car %",null,null,"Interval pnt. bij max. brt.",null,null,"Speelrooster"]
[null,null,"Naam","Car.","Brt.","HS","Moy.","Pnt.",null,"Naam",null,"Car.","Brt.","HS","Moy.","Pnt.",null,null,null,null,"partij moyenne"]
[null,1,{"$f":"C12","v":" "}," "," ",null,{"$f":"ROUNDDOWN(D19/E19,3)","v":{"$error":"#VALUE!"}},{"$f":"IF(AND(E19=K9,D19<F12,D20<F13),AK19,      IF(AND(D19=F12,D20<F13),2,IF(AND(D19=F12,D20=F13),1,0)))","v":0},2,{"$f":"C14","v":" "},null," "," ",null,{"$f":"L19/M19","v":{"$error":"#VALUE!"}},{"$f":"IF(AND(M19=K9,L19<F14,L20<F15),AK20,      IF(AND(L19=F14,L20<F15),2,IF(AND(L19=F14,L20=F15),1,0)))","v":0},null,null,1,{"$f":"IF(H22>0,G22,0)","v":0},{"$f":"IF(H26>0,G26,0)","v":0},{"$f":"IF(P29>0,O29,0)","v":0},{"$f":"IF(P32>0,O32,0)","v":0},{"$f":"MAX(T19:W19)","v":0},null,{"$f":"IF(D19=F12,1,0)","v":0},{"$f":"IF(D20<F13,1,0)","v":0},{"$f":"SUM(Z19:AA19)","v":0},{"$f":"IF(L19=F14,1,0)","v":0},{"$f":"IF(L20<F15,1,0)","v":0},{"$f":"SUM(AC19:AD19)","v":0},null,1,{"$f":"ROUNDDOWN(D19/F12,3)","v":{"$error":"#VALUE!"}},"-",{"$f":"ROUNDDOWN(D20/F13,3)","v":{"$error":"#VALUE!"}},{"$f":"IF(AH19<AJ19,0,IF(AH19>AJ19,2,1))","v":{"$error":"#VALUE!"}},{"$f":"IF(AJ19<AH19,0,IF(AJ19>AH19,2,1))","v":{"$error":"#VALUE!"}},null,2,"-",3]
[null,null,{"$f":"C13","v":" "}," ",{"$f":"E19","v":" "},null,{"$f":"ROUNDDOWN(D20/E20,3)","v":{"$error":"#VALUE!"}},{"$f":"IF(AND(E20=K9,D20<F13,D19<F12),AL19,         IF(AND(D20=F13,D19<F12),2,IF(AND(D20=F13,D19=F12),1,0)))","v":0},null,{"$f":"C15","v":" "},null," ",{"$f":"M19","v":" "},null,{"$f":"L20/M20","v":{"$error":"#VALUE!"}},{"$f":"IF(AND(M20=60,L20<F15,L19<F14),AL20,         IF(AND(L20=F15,L19<F14),2,IF(AND(L20=F15,L19=F14),1,0)))","v":0},null,null,2,{"$f":"IF(H19>0,G19,0)","v":0},{"$f":"IF(H23>0,G23,0)","v":0},{"$f":"IF(H29>0,G29,0)","v":0},{"$f":"IF(H32>0,G32,0)","v":0},{"$f":"MAX(T20:W20)","v":0},null,{"$f":"IF(D20=F13,1,0)","v":0},{"$f":"IF(D19<F12,1,0)","v":0},{"$f":"SUM(Z20:AA20)","v":0},{"$f":"IF(L20=F15,1,0)","v":0},{"$f":"IF(L19<F14,1,0)","v":0},{"$f":"SUM(AC20:AD20)","v":0},null,2,{"$f":"ROUNDDOWN(L19/F14,3)","v":{"$error":"#VALUE!"}},"-",{"$f":"ROUNDDOWN(L20/F15,3)","v":{"$error":"#VALUE!"}},{"$f":"IF(AH20<AJ20,0,IF(AH20>AJ20,2,1))","v":{"$error":"#VALUE!"}},{"$f":"IF(AJ20<AH20,0,IF(AJ20>AH20,2,1))","v":{"$error":"#VALUE!"}},null,4,"-",5]
[null,null,null,null,null,null,null,null,null,null,null," ",null,null,null,null,null,null,3,{"$f":"IF(H20>0,G20,0)","v":0},{"$f":"IF(P22>0,O22,0)","v":0},{"$f":"IF(P30>0,O30,0)","v":0},{"$f":"IF(H35>0,G35,0)","v":0},0,null,null,null,null,null,null,null,null,3,{"$f":"ROUNDDOWN(D22/F11,3)","v":{"$error":"#VALUE!"}},"-",{"$f":"ROUNDDOWN(D23/F12,3)","v":{"$error":"#VALUE!"}},{"$error":"#VALUE!"},{"$error":"#VALUE!"},null,1,"-",2]
[null,3,{"$f":"C11","v":" "}," "," ",null,{"$f":"ROUNDDOWN(D22/E22,3)","v":{"$error":"#VALUE!"}},{"$f":"IF(AND(E22=K9,D22<F11,D23<F12),AK21,    IF(AND(D22=F11,D23<F12),2,IF(AND(D22=F11,D23=F12),1,0)))","v":0},4,{"$f":"C13","v":" "},null," "," ",null,{"$f":"L22/M22","v":{"$error":"#VALUE!"}},{"$f":"IF(AND(M22=K9,L22<F13,L23<F14),AK22,      IF(AND(L22=F13,L23<F14),2,IF(AND(L22=F13,L23=F14),1,0)))","v":0},null,null,4,{"$f":"IF(P19>0,O19,0)","v":0},{"$f":"IF(P23>0,O23,0)","v":0},{"$f":"IF(P33>0,O33,0)","v":0},{"$f":"IF(P33>0,O33,0)","v":0},0,null,{"$f":"IF(D22=F11,1,0)","v":0},{"$f":"IF(D23<F12,1,0)","v":0},{"$f":"SUM(Z22:AA22)","v":0},{"$f":"IF(L22=F13,1,0)","v":0},{"$f":"IF(L23<F14,1,0)","v":0},0,null,4,{"$f":"ROUNDDOWN(L22/F13,3)","v":{"$error":"#VALUE!"}},"-",{"$f":"ROUNDDOWN(L23/F14,3)","v":{"$error":"#VALUE!"}},{"$error":"#VALUE!"},{"$error":"#VALUE!"},null,3,"-",4]
[null,null,{"$f":"C12","v":" "}," ",{"$f":"E22","v":" "},null,{"$error":"#VALUE!"},{"$f":"IF(AND(E23=K9,D23<F12,D22<F11),AL21,         IF(AND(D23=F12,D22<F11),2,IF(AND(D23=F12,D22=F11),1,0)))","v":0},null,{"$f":"C14","v":" "},null," ",{"$f":"M22","v":" "},null,{"$f":"L23/M23","v":{"$error":"#VALUE!"}},{"$f":"IF(AND(M23=K9,L23<F14,L22<F13),AL22,         IF(AND(L23=F14,L22<F13),2,IF(AND(L23=F14,L22=F13),1,0)))","v":0},null,null,5,{"$f":"IF(P20>0,O20,0)","v":0},{"$f":"IF(H25>0,G25,0)","v":0},{"$f":"IF(H33>0,G33,0)","v":0},{"$f":"IF(H36>0,G36,0)","v":0},0,null,{"$f":"IF(D23=F12,1,0)","v":0},{"$f":"IF(D22<F11,1,0)","v":0},{"$f":"SUM(Z23:AA23)","v":0},{"$f":"IF(L23=F14,1,0)","v":0},{"$f":"IF(L22<F13,1,0)","v":0},0,null,5,{"$f":"ROUNDDOWN(D25/F15,3)","v":{"$error":"#VALUE!"}},"-",{"$f":"ROUNDDOWN(D26/F11,3)","v":{"$error":"#VALUE!"}},{"$error":"#VALUE!"},{"$error":"#VALUE!"},null,1,"-",5]
[null,null,null,null,null,null,null,null,null,null,null,null,null,null,null,null,null,null,null,null,null,null,null,null,null,null,null,null,null,null,null,null,6,{"$f":"ROUNDDOWN(D29/F12,3)","v":{"$error":"#VALUE!"}},"-",{"$f":"ROUNDDOWN(D30/F14,3)","v":{"$error":"#VALUE!"}},{"$error":"#VALUE!"},{"$error":"#VALUE!"},null,2,"-",4]
[null,5,{"$f":"C15","v":" "}," "," ",null,{"$f":"ROUNDDOWN(D25/E25,3)","v":{"$error":"#VALUE!"}},{"$f":"IF(AND(E25=K9,D25<F15,D26<F11),AK23,    IF(AND(D25=F15,D26<F11),2,IF(AND(D25=F15,D26=F11),1,0)))","v":0},null,null,null,null,null,null,null,null,null,null,null,null,"gewonnen",null,null,null,null,{"$f":"IF(D25=F15,1,0)","v":0},{"$f":"IF(D26<F11,1,0)","v":0},0,null,null,null,null,7,{"$f":"ROUNDDOWN(L29/F11,3)","v":{"$error":"#VALUE!"}},"-",{"$f":"ROUNDDOWN(L30/F13,3)","v":{"$error":"#VALUE!"}},{"$error":"#VALUE!"},{"$error":"#VALUE!"},null,1,"-",3]
[null,null,{"$f":"C11","v":" "}," ",{"$f":"E25","v":" "},null,{"$error":"#VALUE!"},{"$f":"IF(AND(E26=K9,D26<F11,D25<F15),AL23,         IF(AND(D26=F11,D25<F15),2,IF(AND(D26=F11,D25=F15),1,0)))","v":0},null,null,null,null,null,null,null,null,null,null,1,{"$f":"IF(H22>1,1,0)","v":0},{"$f":"IF(H26>1,1,0)","v":0},{"$f":"IF(P29>1,1,0)","v":0},{"$f":"IF(P32>1,1,0)","v":0},{"$f":"SUM(T26:W26)","v":0},null,{"$f":"IF(D26=F11,1,0)","v":0},{"$f":"IF(D25<F15,1,0)","v":0},0,null,null,null,null,8,{"$f":"ROUNDDOWN(D32/F12,3)","v":{"$error":"#VALUE!"}},"-",{"$f":"ROUNDDOWN(D33/F15,3)","v":{"$error":"#VALUE!"}},{"$f":"IF(AH26<AJ26,0,IF(AH26>AJ26,2,1))","v":{"$error":"#VALUE!"}},{"$f":"IF(AJ26<AH26,0,IF(AJ26>AH26,2,1))","v":{"$error":"#VALUE!"}},null,2,"-",5]
[null,null,null,null,null,null,null,null,null,null,null,null,null,null,null,null,null,null,2,{"$f":"IF(H19>1,1,0)","v":0},{"$f":"IF(H23>1,1,0)","v":0},{"$f":"IF(H29>1,1,0)","v":0},{"$f":"IF(H32>1,1,0)","v":0},{"$f":"SUM(T27:W27)","v":0},null,null,null,null,null,null,null,null,9,{"$f":"ROUNDDOWN(L32/F11,3)","v":{"$error":"#VALUE!"}},"-",{"$f":"ROUNDDOWN(L33/F14,3)","v":{"$error":"#VALUE!"}},{"$f":"IF(AH27<AJ27,0,IF(AH27>AJ27,2,1))","v":{"$error":"#VALUE!"}},{"$f":"IF(AJ27<AH27,0,IF(AJ27>AH27,2,1))","v":{"$error":"#VALUE!"}},null,1,"-",4]
[null,null,"Naam","Car.","Brt.","HS","Moy.","Pnt.",null,"Naam",null,"Car.","Brt.","HS","Moy.","Pnt.",null,null,3,{"$f":"IF(H20>1,1,0)","v":0},{"$f":"IF(P22>1,1,0)","v":0},{"$f":"IF(P30>1,1,0)","v":0},{"$f":"IF(H35>1,1,0)","v":0},{"$f":"SUM(T28:W28)","v":0},null,null,null,null,null,null,null,null,10,{"$f":"ROUNDDOWN(D35/F13,3)","v":{"$error":"#VALUE!"}},"-",{"$f":"ROUNDDOWN(D36/F15,3)","v":{"$error":"#VALUE!"}},{"$error":"#VALUE!"},{"$error":"#VALUE!"},null,3,"-",5]
[null,6,{"$f":"C12","v":" "}," "," ",null,{"$f":"ROUNDDOWN(D29/E29,3)","v":{"$error":"#VALUE!"}},{"$f":"IF(AND(E29=K9,D29<F12,D30<F14),AK24,    IF(AND(D29=F12,D30<F14),2,IF(AND(D29=F12,D30=F14),1,0)))","v":0},7,{"$f":"C11","v":" "},null," "," ",null,{"$f":"L29/M29","v":{"$error":"#VALUE!"}},{"$f":"IF(AND(M29=K9,L29<F11,L30<F13),AK25,      IF(AND(L29=F11,L30<F13),2,IF(AND(L29=F11,L30=F13),1,0)))","v":0},null,null,4,{"$f":"IF(P19>1,1,0)","v":0},{"$f":"IF(P23>1,1,0)","v":0},{"$f":"IF(H30>1,1,0)","v":0},{"$f":"IF(P33>1,1,0)","v":0},{"$f":"SUM(T29:W29)","v":0},null,{"$f":"IF(D29=F12,1,0)","v":0},{"$f":"IF(D30<F14,1,0)","v":0},0,{"$f":"IF(L29=F11,1,0)","v":0},{"$f":"IF(L30<F13,1,0)","v":0},0]
[null,null,{"$f":"C14","v":" "}," ",{"$f":"E29","v":" "},null,{"$error":"#VALUE!"},{"$f":"IF(AND(E30=K9,D30<F14,D29<F12),AL24,         IF(AND(D30=F14,D29<F12),2,IF(AND(D30=F14,D29=F12),1,0)))","v":0},null,{"$f":"C13","v":" "},null," ",{"$f":"M29","v":" "},null,{"$f":"L30/M30","v":{"$error":"#VALUE!"}},{"$f":"IF(AND(M30=K9,L30<F13,L29<F11),AL25,         IF(AND(L30=F13,L29<F11),2,IF(AND(L30=F13,L29=F11),1,0)))","v":0},null,null,5,{"$f":"IF(P20>1,1,0)","v":0},{"$f":"IF(H25>1,1,0)","v":0},{"$f":"IF(H33>1,1,0)","v":0},{"$f":"IF(H36>1,1,0)","v":0},{"$f":"SUM(T30:W30)","v":0},null,{"$f":"IF(D30=F14,1,0)","v":0},{"$f":"IF(D29<F12,1,0)","v":0},0,{"$f":"IF(L30=F13,1,0)","v":0},{"$f":"IF(L29<F11,1,0)","v":0},0]
[]
[null,8,{"$f":"C12","v":" "}," "," ",null,{"$f":"ROUNDDOWN(D32/E32,3)","v":{"$error":"#VALUE!"}},{"$f":"IF(AND(E32=K9,D32<F12,D33<F15),AK26,    IF(AND(D32=F12,D33<F15),2,IF(AND(D32=F12,D33=F15),1,0)))","v":0},9,{"$f":"C11","v":" "},null," "," ",null,{"$f":"L32/M32","v":{"$error":"#VALUE!"}},{"$f":"IF(AND(M32=K9,L32<F11,L33<F14),AK27,      IF(AND(L32=F11,L33<F14),2,IF(AND(L32=F11,L33=F14),1,0)))","v":0},null,null,null,null,"gelijk",null,null,null,null,{"$f":"IF(D32=F12,1,0)","v":0},{"$f":"IF(D33<F15,1,0)","v":0},0,{"$f":"IF(L32=F11,1,0)","v":0},{"$f":"IF(L33<F14,1,0)","v":0},0]
[null,null,{"$f":"C15","v":" "}," ",{"$f":"E32","v":" "},null,{"$error":"#VALUE!"},{"$f":"IF(AND(E33=K9,D33<F15,D32<F12),AL26,         IF(AND(D33=F15,D32<F12),2,IF(AND(D33=F15,D32=F12),1,0)))","v":0},null,{"$f":"C14","v":" "},null," ",{"$f":"M32","v":" "},null,{"$f":"L33/M33","v":{"$error":"#VALUE!"}},{"$f":"IF(AND(M33=K9,L33<F14,L32<F11),AL27,        IF(AND(L33=F14,L32<F11),2,IF(AND(L33=F14,L32=F11),1,0)))","v":0},null,null,null,null,null,null,null,null,null,{"$f":"IF(D33=F15,1,0)","v":0},{"$f":"IF(D32<F12,1,0)","v":0},0,{"$f":"IF(L33=F14,1,0)","v":0},{"$f":"IF(L32<F11,1,0)","v":0},0]
[null,null,null,null,null,null,null,null,null,null,null,null,null,null,null,null,null,null,1,{"$f":"IF(H22=1,1,0)","v":0},{"$f":"IF(H26=1,1,0)","v":0},{"$f":"IF(P29=1,1,0)","v":0},{"$f":"IF(P32=1,1,0)","v":0},{"$f":"SUM(T34:W34)","v":0}]
[null,10,{"$f":"C13","v":" "}," "," ",null,{"$f":"ROUNDDOWN(D35/E35,3)","v":{"$error":"#VALUE!"}},{"$f":"IF(AND(E35=K9,D35<F13,D36<F15),AK28,    IF(AND(D35=F13,D36<F15),2,IF(AND(D35=F13,D36=F15),1,0)))","v":0},null,null,null,null,null,null,null,null,null,null,2,{"$f":"IF(H19=1,1,0)","v":0},{"$f":"IF(H23=1,1,0)","v":0},{"$f":"IF(H29=1,1,0)","v":0},{"$f":"IF(H32=1,1,0)","v":0},{"$f":"SUM(T35:W35)","v":0},null,{"$f":"IF(D35=F13,1,0)","v":0},{"$f":"IF(D36<F15,1,0)","v":0},0]
[null,null,{"$f":"C15","v":" "}," ",{"$f":"E35","v":" "},null,{"$error":"#VALUE!"},{"$f":"IF(AND(E36=K9,D36<F15,D35<F13),AL28,         IF(AND(D36=F15,D35<F13),2,IF(AND(D36=F15,D35=F13),1,0)))","v":0},null,null,null,null,null,null,null,null,null,null,3,{"$f":"IF(H20=1,1,0)","v":0},{"$f":"IF(P22=1,1,0)","v":0},{"$f":"IF(P30=1,1,0)","v":0},{"$f":"IF(H35=1,1,0)","v":0},{"$f":"SUM(T36:W36)","v":0},null,{"$f":"IF(D36=F15,1,0)","v":0},{"$f":"IF(D35<F13,1,0)","v":0},0]
[null,null,null,null,null,null,null,null,null,null,null,null,null,null,null,null,null,null,4,{"$f":"IF(P19=1,1,0)","v":0},{"$f":"IF(P23=1,1,0)","v":0},{"$f":"IF(H30=1,1,0)","v":0},{"$f":"IF(P33=1,1,0)","v":0},{"$f":"SUM(T37:W37)","v":0}]
[null,null,null,null,null,null,null,null,null,null,"Plaatsing ",null,null,"Rangking",null,null,null,null,null,"Gegevens op deze regel ontbreken, dus nog toevoegen!"]
[null,"Stand",null,"Car.","Brt.","HS","Moy.","Pnt.","% moy.","% carb.","Mp.","% moy.","% carb.",null,null,null,null,null,null,"Dit t.b.v. uitslagformulier!"]
[null,null,{"$f":"C11","v":" "},{"$f":"SUM(D22,D26,L29,L32)","v":0},{"$f":"SUM(E22,E26,M29,M32)","v":0},{"$f":"MAX(F22,F26,N29,N32)","v":0},{"$f":"ROUNDDOWN(D40/E40,3)","v":{"$error":"#DIV/0!"}},{"$f":"SUM(H22,H26,P29,P32)","v":0},{"$f":"IF(OR(ISBLANK(D40),ISBLANK(E40)),\"-\",IF(AND(H11=\"NEE\",G40/G11>1),1,ROUNDDOWN(G40/G11,5)))","v":{"$error":"#DIV/0!"}},{"$f":"D40/Y10","v":0},null,null,null,{"$f":"SUM(K40:M40)","v":0}]
[null,null,{"$f":"C12","v":" "},{"$f":"SUM(D19,D23,D29,D32)","v":0},{"$f":"SUM(E19,E23,E29,E32)","v":0},{"$f":"MAX(F19,F23,F29,F32)","v":0},{"$f":"ROUNDDOWN(D41/E41,3)","v":{"$error":"#DIV/0!"}},{"$f":"SUM(H19,H23,H29,H32)","v":0},{"$f":"IF(OR(ISBLANK(D41),ISBLANK(E41)),\"-\",IF(AND(H12=\"NEE\",G41/G12>1),1,ROUNDDOWN(G41/G12,5)))","v":{"$error":"#DIV/0!"}},{"$f":"D41/Y11","v":0},null,null,null,{"$f":"SUM(K41:M41)","v":0},null,null,null,null,null,"Indien de uitslag  0 - 0 wordt dan is er iets fout ingevuld!"]
[null,null,{"$f":"C13","v":" "},{"$f":"SUM(D20,L22,L30,D35)","v":0},{"$f":"SUM(E20,M22,M30,E35)","v":0},{"$f":"MAX(F20,N22,N30,F35)","v":0},{"$error":"#DIV/0!"},{"$f":"SUM(H20,P22,P30,H35)","v":0},{"$f":"IF(OR(ISBLANK(D42),ISBLANK(E42)),\"-\",IF(AND(H13=\"NEE\",G42/G13>1),1,ROUNDDOWN(G42/G13,5)))","v":{"$error":"#DIV/0!"}},{"$f":"D42/Y12","v":0},null,null,null,0,null,null,null,null,null,"Dan ingevulde gegevens kontroleren."]
[null,null,{"$f":"C14","v":" "},{"$f":"SUM(L19,L23,D30,L33)","v":0},{"$f":"SUM(M19,M23,E30,M33)","v":0},{"$f":"MAX(N19,N23,F30,N33)","v":0},{"$error":"#DIV/0!"},{"$f":"SUM(P19,P23,H30,P33)","v":0},{"$f":"IF(OR(ISBLANK(D43),ISBLANK(E43)),\"-\",IF(AND(H14=\"NEE\",G43/G14>1),1,ROUNDDOWN(G43/G14,5)))","v":{"$error":"#DIV/0!"}},{"$f":"D43/Y13","v":0},null,null,null,0]
[null,null,{"$f":"C15","v":" "},{"$f":"SUM(L20,D25,D33,D36)","v":0},{"$f":"SUM(M20,E25,E33,E36)","v":0},{"$f":"MAX(N20,F25,F33,F36)","v":0},{"$error":"#DIV/0!"},{"$f":"SUM(P20,H25,H33,H36)","v":0},{"$f":"IF(OR(ISBLANK(D44),ISBLANK(E44)),\"-\",IF(AND(H15=\"NEE\",G44/G15>1),1,ROUNDDOWN(G44/G15,5)))","v":{"$error":"#DIV/0!"}},{"$f":"D44/Y14","v":0},null,null,null,0]

{"sheet":"Uitslagformulier","index":1,"n_rows":98,"n_cols":16,"rows_kept":98,"cut":false,"hidden":false,"merged":[[1,0,1,4],[1,5,1,9],[10,7,10,9],[11,7,11,9],[10,3,10,6],[11,3,11,6],[27,0,27,2],[20,0,20,2],[21,0,21,2],[23,0,23,2],[24,0,24,2],[25,0,25,2],[26,0,26,2],[2,12,2,14],[25,4,25,7],[26,4,26,7],[27,4,27,7],[24,8,27,10],[23,8,23,10],[20,4,20,7],[21,4,21,7],[22,4,22,7],[23,4,23,7],[24,4,24,7],[13,0,13,9],[14,0,14,9],[15,0,15,9],[16,0,16,9],[17,0,17,9]]}
[null,null,null,null,null,null,null,null,null,null,"Poule:"]
["uitslagformulier voorronden",null,null,null,null,{"$f":"Invoerblad!G1","v":0},null,null,null,null,{"$f":"Invoerblad!L1","v":0}]
[null,null,null,null,null,null,null,null,null,null,null,null,"Plaatsing ",null,null,"Rangking"]
[null,"Bondsnr.","Naam","Gew.","Remise","Carb.","Brt.","HS.","Pnt.","Moyenne","% moy.","% carb.","Mp.","% moy.","% carb."]
[1,{"$f":"Invoerblad!B11","v":0},{"$f":"Invoerblad!C11","v":" "},{"$f":"Invoerblad!X26","v":0},{"$f":"Invoerblad!X34","v":0},{"$f":"Invoerblad!D40","v":0},{"$f":"Invoerblad!E40","v":0},{"$f":"Invoerblad!F40","v":0},{"$f":"Invoerblad!H40","v":0},{"$f":"Invoerblad!G40","v":{"$error":"#DIV/0!"}},{"$f":"Invoerblad!I40","v":{"$error":"#DIV/0!"}},{"$f":"Invoerblad!J40","v":0},{"$f":"Invoerblad!K40","v":0},{"$f":"Invoerblad!L40","v":0},{"$f":"Invoerblad!M40","v":0},{"$f":"Invoerblad!N40","v":0}]
[2,{"$f":"Invoerblad!B12","v":0},{"$f":"Invoerblad!C12","v":" "},{"$f":"Invoerblad!X27","v":0},{"$f":"Invoerblad!X35","v":0},{"$f":"Invoerblad!D41","v":0},{"$f":"Invoerblad!E41","v":0},{"$f":"Invoerblad!F41","v":0},{"$f":"Invoerblad!H41","v":0},{"$f":"Invoerblad!G41","v":{"$error":"#DIV/0!"}},{"$f":"Invoerblad!I41","v":{"$error":"#DIV/0!"}},{"$f":"Invoerblad!J41","v":0},{"$f":"Invoerblad!K41","v":0},{"$f":"Invoerblad!L41","v":0},{"$f":"Invoerblad!M41","v":0},{"$f":"Invoerblad!N41","v":0}]
[3,{"$f":"Invoerblad!B13","v":0},{"$f":"Invoerblad!C13","v":" "},{"$f":"Invoerblad!X28","v":0},{"$f":"Invoerblad!X36","v":0},{"$f":"Invoerblad!D42","v":0},{"$f":"Invoerblad!E42","v":0},{"$f":"Invoerblad!F42","v":0},{"$f":"Invoerblad!H42","v":0},{"$f":"Invoerblad!G42","v":{"$error":"#DIV/0!"}},{"$f":"Invoerblad!I42","v":{"$error":"#DIV/0!"}},{"$f":"Invoerblad!J42","v":0},{"$f":"Invoerblad!K42","v":0},{"$f":"Invoerblad!L42","v":0},{"$f":"Invoerblad!M42","v":0},{"$f":"Invoerblad!N42","v":0}]
[4,{"$f":"Invoerblad!B14","v":0},{"$f":"Invoerblad!C14","v":" "},{"$f":"Invoerblad!X29","v":0},{"$f":"Invoerblad!X37","v":0},{"$f":"Invoerblad!D43","v":0},{"$f":"Invoerblad!E43","v":0},{"$f":"Invoerblad!F43","v":0},{"$f":"Invoerblad!H43","v":0},{"$f":"Invoerblad!G43","v":{"$error":"#DIV/0!"}},{"$f":"Invoerblad!I43","v":{"$error":"#DIV/0!"}},{"$f":"Invoerblad!J43","v":0},{"$f":"Invoerblad!K43","v":0},{"$f":"Invoerblad!L43","v":0},{"$f":"Invoerblad!M43","v":0},{"$f":"Invoerblad!N43","v":0}]
[5,{"$f":"Invoerblad!B15","v":0},{"$f":"Invoerblad!C15","v":" "},{"$f":"Invoerblad!X30","v":0},{"$f":"Invoerblad!#REF!","v":{"$error":"#REF!"}},{"$f":"Invoerblad!D44","v":0},{"$f":"Invoerblad!E44","v":0},{"$f":"Invoerblad!F44","v":0},{"$f":"Invoerblad!H44","v":0},{"$f":"Invoerblad!G44","v":{"$error":"#DIV/0!"}},{"$f":"Invoerblad!I44","v":{"$error":"#DIV/0!"}},{"$f":"Invoerblad!J44","v":0},{"$f":"Invoerblad!K44","v":0},{"$f":"Invoerblad!L44","v":0},{"$f":"Invoerblad!M44","v":0},{"$f":"Invoerblad!N44","v":0}]
[]
[null,null,null,"Naam vereniging",null,null,null,"Datum"]
[null,null,null,{"$f":"Invoerblad!G3","v":0},null,null,null,{"$f":"Invoerblad!G2","v":"00:00:00"}]
[]
["DIT FORMULIER DUIDELIJK INGEVULD EN VOORZIEN VAN DE HANDTEKENING "]
[]
["VAN EEN LID VAN DE ORGANISERENDE VERENIGING           BINNEN 3 DAGEN "]
[]
["NA AFLOOP VAN DE VOORWEDSTRIJDEN TOEZENDEN OF MAILEN AAN:  "]
[]
["﻿ "]
["Wedstrijdleider PK"]
["District Berkel en Slinge"]
[]
["Johan Jansink",null,null,null,null,null,null,null,"handtekening:"]
["Veemarkt 11",null,null,null,null,null,null,null,{"$f":"Invoerblad!G4","v":0}]
["7121 AH  Aalten"]
["Tel: 0543-472292 / 06-40263789"]
["j.jansink2016@gmail.com"]
[]
[]
[]
[]
[]
[]
[]
[]
[]
[]
[]
[]
[]
[]
[]
[]
[]
[]
[]
[]
[]
[]
[]
[]
[]
[]
[]
[]
[]
[]
[]
[]
[]
[]
[]
[]
[]
[]
[]
[]
[]
[]
[]
[]
[]
[]
[]
[]
[]
[]
[]
[]
[]
[]
[]
[]
[]
[]
[]
[]
[]
[]
[]
[]
[]
[]
[]
[]
[]
[null,"made by Marco Ubbink"]